BEGIN:VCALENDAR
VERSION:2.0
PRODID:-//Sacheen Lake Association - ECPv6.15.20//NONSGML v1.0//EN
CALSCALE:GREGORIAN
METHOD:PUBLISH
X-WR-CALNAME:Sacheen Lake Association
X-ORIGINAL-URL:https://sacheenlake.com
X-WR-CALDESC:Events for Sacheen Lake Association
REFRESH-INTERVAL;VALUE=DURATION:PT1H
X-Robots-Tag:noindex
X-PUBLISHED-TTL:PT1H
BEGIN:VTIMEZONE
TZID:UTC
BEGIN:STANDARD
TZOFFSETFROM:+0000
TZOFFSETTO:+0000
TZNAME:UTC
DTSTART:20230101T000000
END:STANDARD
END:VTIMEZONE
BEGIN:VEVENT
DTSTART;TZID=UTC:20240824T090000
DTEND;TZID=UTC:20240824T120000
DTSTAMP:20260420T024525
CREATED:20231208T224614Z
LAST-MODIFIED:20231208T225756Z
UID:1491-1724490000-1724500800@sacheenlake.com
SUMMARY:Hwy 211 Cleanup
DESCRIPTION:Attendance at SLA Events requires signup and release of liability of the SLA (at time of event).
URL:https://sacheenlake.com/event/hwy-211-cleanup-6/
LOCATION:Meet at Myers – Harter Park
END:VEVENT
BEGIN:VEVENT
DTSTART;TZID=UTC:20240831T090000
DTEND;TZID=UTC:20240831T120000
DTSTAMP:20260420T024525
CREATED:20231208T231222Z
LAST-MODIFIED:20231208T231222Z
UID:1514-1725094800-1725105600@sacheenlake.com
SUMMARY:Community Yard Sale
DESCRIPTION:This event is not an SLA sponsored / hosted event. However\, the SLA uses our email system to help the community coordinate events such as these. The SLA is not liable for any injury or damage to any person or object during this event.
URL:https://sacheenlake.com/event/community-yard-sale-2/
LOCATION:Fire station on Hwy 211
END:VEVENT
BEGIN:VEVENT
DTSTART;TZID=UTC:20240920T080000
DTEND;TZID=UTC:20240920T110000
DTSTAMP:20260420T024525
CREATED:20231208T224709Z
LAST-MODIFIED:20240918T015357Z
UID:1493-1726819200-1726830000@sacheenlake.com
SUMMARY:Fertile Valley Rd Cleanup
DESCRIPTION:Attendance at SLA Events requires signup and release of liability of the SLA (at time of event).
URL:https://sacheenlake.com/event/fertile-valley-rd-cleanup-5/
LOCATION:Meet at Myers – Harter Park
END:VEVENT
BEGIN:VEVENT
DTSTART;TZID=UTC:20241109T100000
DTEND;TZID=UTC:20241109T120000
DTSTAMP:20260420T024525
CREATED:20240530T140529Z
LAST-MODIFIED:20240530T140645Z
UID:1820-1731146400-1731153600@sacheenlake.com
SUMMARY:Photo Calendar Pickup
DESCRIPTION:This event is not an SLA sponsored / hosted event. However\, the SLA uses our email\nsystem to help the community coordinate events such as these. The SLA is not liable for any injury or damage to any person or object during this event.
URL:https://sacheenlake.com/event/photo-calendar-pickup/
LOCATION:Fire station on Hwy 211
END:VEVENT
BEGIN:VEVENT
DTSTART;TZID=UTC:20250510T080000
DTEND;TZID=UTC:20250510T110000
DTSTAMP:20260420T024525
CREATED:20240918T013058Z
LAST-MODIFIED:20240918T013058Z
UID:1954-1746864000-1746874800@sacheenlake.com
SUMMARY:Myers-Harter Park Cleanup
DESCRIPTION:Attendance at SLA Events requires signup and release of liability of the SLA (at time of the event)
URL:https://sacheenlake.com/event/myers-harter-park-cleanup-4/
LOCATION:Meet at Myers – Harter Park
END:VEVENT
BEGIN:VEVENT
DTSTART;TZID=UTC:20250524T090000
DTEND;TZID=UTC:20250524T120000
DTSTAMP:20260420T024525
CREATED:20240918T013309Z
LAST-MODIFIED:20240918T013309Z
UID:1956-1748077200-1748088000@sacheenlake.com
SUMMARY:Hwy 211 Cleanup
DESCRIPTION:Attendance at SLA Events requires signup and release of liability of the SLA (at time of the event)
URL:https://sacheenlake.com/event/hwy-211-cleanup-7/
LOCATION:Meet at Myers – Harter Park
END:VEVENT
BEGIN:VEVENT
DTSTART;TZID=UTC:20250614T090000
DTEND;TZID=UTC:20250614T110000
DTSTAMP:20260420T024525
CREATED:20240918T013422Z
LAST-MODIFIED:20240918T015253Z
UID:1958-1749891600-1749898800@sacheenlake.com
SUMMARY:SLA Annual Meeting
DESCRIPTION:Attendance at SLA Events requires signup and release of liability of the SLA (at time of the event)
URL:https://sacheenlake.com/event/sla-annual-meeting-4/
LOCATION:Fire station on Hwy 211
END:VEVENT
BEGIN:VEVENT
DTSTART;TZID=UTC:20250621T080000
DTEND;TZID=UTC:20250621T230000
DTSTAMP:20260420T024525
CREATED:20240918T013547Z
LAST-MODIFIED:20240918T014255Z
UID:1960-1750492800-1750546800@sacheenlake.com
SUMMARY:Boat Launch Cleanup
DESCRIPTION:Attendance at SLA Events requires signup and release of liability of the SLA (at time of the event) \nIncludes road cleanup from the intersection of Sacheen Terrace Dr and Hwy 211 to the WDFW gate for the boat launch area.
URL:https://sacheenlake.com/event/boat-launch-cleanup-4/
LOCATION:Meet at WDFW boat launch
END:VEVENT
BEGIN:VEVENT
DTSTART;TZID=UTC:20250704T140000
DTEND;TZID=UTC:20250704T150000
DTSTAMP:20260420T024525
CREATED:20240918T014608Z
LAST-MODIFIED:20250114T230650Z
UID:1971-1751637600-1751641200@sacheenlake.com
SUMMARY:4th of July Boat Parade
DESCRIPTION:This event is not an SLA sponsored / hosted event.  However\, the SLA uses our email system to help the community coordinate non-sponsored/hosted events.  The SLA is not liable for any injury or damage to any person or object during this event.
URL:https://sacheenlake.com/event/4th-of-july-boat-parade-2/
LOCATION:Section of the lake near the boat launch
END:VEVENT
BEGIN:VEVENT
DTSTART;TZID=UTC:20250712T110000
DTEND;TZID=UTC:20250712T140000
DTSTAMP:20260420T024525
CREATED:20240918T013718Z
LAST-MODIFIED:20240918T013718Z
UID:1962-1752318000-1752328800@sacheenlake.com
SUMMARY:Sacheen Community Annual Picnic
DESCRIPTION:Attendance at SLA Events requires signup and release of liability of the SLA (at time of the event)
URL:https://sacheenlake.com/event/sacheen-community-annual-picnic-4/
LOCATION:Meet at Myers – Harter Park
END:VEVENT
BEGIN:VEVENT
DTSTART;TZID=UTC:20250719T080000
DTEND;TZID=UTC:20250719T230000
DTSTAMP:20260420T024525
CREATED:20240918T013838Z
LAST-MODIFIED:20240918T013838Z
UID:1964-1752912000-1752966000@sacheenlake.com
SUMMARY:Fertile Valley Road Cleanup
DESCRIPTION:Attendance at SLA Events requires signup and release of liability of the SLA (at time of the event)
URL:https://sacheenlake.com/event/fertile-valley-road-cleanup/
LOCATION:Meet at Myers – Harter Park
END:VEVENT
BEGIN:VEVENT
DTSTART;TZID=UTC:20250816T090000
DTEND;TZID=UTC:20250816T120000
DTSTAMP:20260420T024525
CREATED:20240918T014743Z
LAST-MODIFIED:20241206T184609Z
UID:1973-1755334800-1755345600@sacheenlake.com
SUMMARY:Community Yard Sale (Labor Day Weekend)
DESCRIPTION:This event is not an SLA sponsored / hosted event.  However\, the SLA uses our email system to help the community coordinate non-sponsored/hosted events.  The SLA is not liable for any injury or damage to any person or object during this event.
URL:https://sacheenlake.com/event/community-yard-sale-labor-day-weekend/
LOCATION:Fire station on Hwy 211
END:VEVENT
BEGIN:VEVENT
DTSTART;TZID=UTC:20250823T090000
DTEND;TZID=UTC:20250823T120000
DTSTAMP:20260420T024525
CREATED:20240918T013954Z
LAST-MODIFIED:20240918T015432Z
UID:1966-1755939600-1755950400@sacheenlake.com
SUMMARY:Hwy 211 Cleanup
DESCRIPTION:Attendance at SLA Events requires signup and release of liability of the SLA (at time of the event)
URL:https://sacheenlake.com/event/hwy-211-cleanup-8/
LOCATION:Meet at Myers – Harter Park
END:VEVENT
BEGIN:VEVENT
DTSTART;TZID=UTC:20251108T100000
DTEND;TZID=UTC:20251108T120000
DTSTAMP:20260420T024525
CREATED:20240918T014857Z
LAST-MODIFIED:20240918T014857Z
UID:1975-1762596000-1762603200@sacheenlake.com
SUMMARY:Photo Calendar Pickup
DESCRIPTION:This event is not an SLA sponsored / hosted event.  However\, the SLA uses our email system to help the community coordinate non-sponsored/hosted events.  The SLA is not liable for any injury or damage to any person or object during this event.
URL:https://sacheenlake.com/event/photo-calendar-pickup-2/
LOCATION:Fire station on Hwy 211
END:VEVENT
BEGIN:VEVENT
DTSTART;TZID=UTC:20260509T080000
DTEND;TZID=UTC:20260509T230000
DTSTAMP:20260420T024525
CREATED:20251017T132458Z
LAST-MODIFIED:20251017T132458Z
UID:2288-1778313600-1778367600@sacheenlake.com
SUMMARY:Myers-Harter Park Cleanup
DESCRIPTION:Attendance at SLA Events requires signup and release of liability of the SLA (at time of\nevent)
URL:https://sacheenlake.com/event/myers-harter-park-cleanup-5/
LOCATION:Meet at Myers – Harter Park
END:VEVENT
BEGIN:VEVENT
DTSTART;TZID=UTC:20260530T090000
DTEND;TZID=UTC:20260530T120000
DTSTAMP:20260420T024525
CREATED:20251017T132643Z
LAST-MODIFIED:20260402T220035Z
UID:2290-1780131600-1780142400@sacheenlake.com
SUMMARY:Hwy 211 Cleanup
DESCRIPTION:Attendance at SLA Events requires signup and release of liability of the SLA (at time of\nevent) \nOriginally scheduled for May 23rd\, but changed it so it didn’t conflict with Memorial Day.
URL:https://sacheenlake.com/event/hwy-211-cleanup-9/
LOCATION:Meet at Myers – Harter Park
END:VEVENT
BEGIN:VEVENT
DTSTART;TZID=UTC:20260613T090000
DTEND;TZID=UTC:20260613T110000
DTSTAMP:20260420T024525
CREATED:20251017T132824Z
LAST-MODIFIED:20251017T132824Z
UID:2292-1781341200-1781348400@sacheenlake.com
SUMMARY:SLA Annual Meeting
DESCRIPTION:Attendance at SLA Events requires signup and release of liability of the SLA (at time of\nevent)
URL:https://sacheenlake.com/event/sla-annual-meeting-5/
LOCATION:Fire station on Hwy 211
END:VEVENT
BEGIN:VEVENT
DTSTART;TZID=UTC:20260627T080000
DTEND;TZID=UTC:20260627T110000
DTSTAMP:20260420T024525
CREATED:20251017T133017Z
LAST-MODIFIED:20251017T134550Z
UID:2294-1782547200-1782558000@sacheenlake.com
SUMMARY:Boat Launch Cleanup
DESCRIPTION:Attendance at SLA Events requires signup and release of liability of the SLA (at time of\nevent). \nIncludes road cleanup from the intersection of Sacheen Terrace Dr and Hwy 211 to\nthe WDFW gate for the boat launch area.
URL:https://sacheenlake.com/event/boat-launch-cleanup-5/
LOCATION:Meet at WDFW boat launch
END:VEVENT
BEGIN:VEVENT
DTSTART;TZID=UTC:20260704T140000
DTEND;TZID=UTC:20260704T150000
DTSTAMP:20260420T024525
CREATED:20251017T133748Z
LAST-MODIFIED:20251017T133748Z
UID:2302-1783173600-1783177200@sacheenlake.com
SUMMARY:4 th of July Parade
DESCRIPTION:This event is not an SLA sponsored / hosted event. However\, the SLA uses our\nemail system to help the community coordinate this event. The SLA is not liable\nfor any injury or damage to any person or object during these events.
URL:https://sacheenlake.com/event/4-th-of-july-parade-2/
LOCATION:Section of the lake near the boat launch
END:VEVENT
BEGIN:VEVENT
DTSTART;TZID=UTC:20260711T110000
DTEND;TZID=UTC:20260711T130000
DTSTAMP:20260420T024525
CREATED:20251017T133201Z
LAST-MODIFIED:20251017T133201Z
UID:2296-1783767600-1783774800@sacheenlake.com
SUMMARY:Sacheen Community Annual Picnic
DESCRIPTION:Attendance at SLA Events requires signup and release of liability of the SLA (at time of\nevent)
URL:https://sacheenlake.com/event/sacheen-community-annual-picnic-5/
LOCATION:Myers – Harter Park
END:VEVENT
BEGIN:VEVENT
DTSTART;TZID=UTC:20260725T080000
DTEND;TZID=UTC:20260725T110000
DTSTAMP:20260420T024525
CREATED:20251017T133325Z
LAST-MODIFIED:20251017T134753Z
UID:2298-1784966400-1784977200@sacheenlake.com
SUMMARY:Fertile Valley Rd Cleanup
DESCRIPTION:Attendance at SLA Events requires signup and release of liability of the SLA (at time of\nevent)
URL:https://sacheenlake.com/event/fertile-valley-rd-cleanup-6/
LOCATION:Meet at Myers – Harter Park
END:VEVENT
BEGIN:VEVENT
DTSTART;TZID=UTC:20260808T090000
DTEND;TZID=UTC:20260808T120000
DTSTAMP:20260420T024525
CREATED:20251017T134010Z
LAST-MODIFIED:20251017T134010Z
UID:2304-1786179600-1786190400@sacheenlake.com
SUMMARY:Community Yard Sale
DESCRIPTION:This event is not an SLA sponsored / hosted event. However\, the SLA uses our\nemail system to help the community coordinate this event. The SLA is not liable\nfor any injury or damage to any person or object during these events. \nYard sale will occur with a commitment of at least five sellers.
URL:https://sacheenlake.com/event/community-yard-sale-3/
LOCATION:Fire station on Hwy 211
END:VEVENT
BEGIN:VEVENT
DTSTART;TZID=UTC:20260912T090000
DTEND;TZID=UTC:20260912T120000
DTSTAMP:20260420T024525
CREATED:20251017T133502Z
LAST-MODIFIED:20251017T133502Z
UID:2300-1789203600-1789214400@sacheenlake.com
SUMMARY:Hwy 211 Cleanup
DESCRIPTION:Attendance at SLA Events requires signup and release of liability of the SLA (at time of\nevent)
URL:https://sacheenlake.com/event/hwy-211-cleanup-10/
LOCATION:Meet at Myers – Harter Park
END:VEVENT
BEGIN:VEVENT
DTSTART;TZID=UTC:20261107T100000
DTEND;TZID=UTC:20261107T120000
DTSTAMP:20260420T024525
CREATED:20251017T134220Z
LAST-MODIFIED:20260102T224911Z
UID:2306-1794045600-1794052800@sacheenlake.com
SUMMARY:Photo Calendar Pickup
DESCRIPTION:Photo calendar contest (an SLA fundraising event) will occur with a commitment to purchase at least 50 calendars.
URL:https://sacheenlake.com/event/photo-calendar-pickup-3/
LOCATION:Fire station on Hwy 211
END:VEVENT
END:VCALENDAR