BEGIN:VCALENDAR
VERSION:2.0
PRODID:-//Sacheen Lake Association - ECPv6.15.20//NONSGML v1.0//EN
CALSCALE:GREGORIAN
METHOD:PUBLISH
X-WR-CALNAME:Sacheen Lake Association
X-ORIGINAL-URL:https://sacheenlake.com
X-WR-CALDESC:Events for Sacheen Lake Association
REFRESH-INTERVAL;VALUE=DURATION:PT1H
X-Robots-Tag:noindex
X-PUBLISHED-TTL:PT1H
BEGIN:VTIMEZONE
TZID:UTC
BEGIN:STANDARD
TZOFFSETFROM:+0000
TZOFFSETTO:+0000
TZNAME:UTC
DTSTART:20140101T000000
END:STANDARD
END:VTIMEZONE
BEGIN:VEVENT
DTSTART;TZID=UTC:20220709T110000
DTEND;TZID=UTC:20220709T110000
DTSTAMP:20260420T004327
CREATED:20220414T234530Z
LAST-MODIFIED:20220602T140537Z
UID:982-1657364400-1657364400@sacheenlake.com
SUMMARY:Sacheen Community Annual Picnic
DESCRIPTION:The date was changed to July 9 to accommodate the lead and volunteers.
URL:https://sacheenlake.com/event/sacheen-community-annual-picnic/
LOCATION:Myers – Harter Park
END:VEVENT
BEGIN:VEVENT
DTSTART;TZID=UTC:20220625T080000
DTEND;TZID=UTC:20220625T080000
DTSTAMP:20260420T004327
CREATED:20220414T234305Z
LAST-MODIFIED:20220414T234305Z
UID:977-1656144000-1656144000@sacheenlake.com
SUMMARY:Boat Launch Cleanup
DESCRIPTION:Includes road cleanup from the intersection of Sacheen Terrace Dr and Hwy 211 to the\nWDFW gate for the boat launch area.
URL:https://sacheenlake.com/event/boat-launch-cleanup/
LOCATION:Meet at WDFW boat launch
END:VEVENT
BEGIN:VEVENT
DTSTART;TZID=UTC:20220611T090000
DTEND;TZID=UTC:20220611T110000
DTSTAMP:20260420T004327
CREATED:20220414T233821Z
LAST-MODIFIED:20220414T233821Z
UID:973-1654938000-1654945200@sacheenlake.com
SUMMARY:SLA Annual Meeting
DESCRIPTION:
URL:https://sacheenlake.com/event/sla-annual-meeting/
LOCATION:Fire station on Hwy 211
END:VEVENT
BEGIN:VEVENT
DTSTART;TZID=UTC:20220521T080000
DTEND;TZID=UTC:20220521T080000
DTSTAMP:20260420T004327
CREATED:20220414T233531Z
LAST-MODIFIED:20220414T233531Z
UID:969-1653120000-1653120000@sacheenlake.com
SUMMARY:Hwy 211 Cleanup
DESCRIPTION:
URL:https://sacheenlake.com/event/hwy-211-cleanup/
LOCATION:Meet at Myers – Harter Park
END:VEVENT
BEGIN:VEVENT
DTSTART;TZID=UTC:20220507T080000
DTEND;TZID=UTC:20220507T080000
DTSTAMP:20260420T004327
CREATED:20220414T233213Z
LAST-MODIFIED:20220414T233213Z
UID:965-1651910400-1651910400@sacheenlake.com
SUMMARY:Myers-Harter Park Cleanup
DESCRIPTION:
URL:https://sacheenlake.com/event/myers-harter-park-cleanup/
LOCATION:Myers – Harter Park
END:VEVENT
BEGIN:VEVENT
DTSTART;TZID=UTC:20210828T090000
DTEND;TZID=UTC:20210828T110000
DTSTAMP:20260420T004327
CREATED:20210721T222846Z
LAST-MODIFIED:20210721T223350Z
UID:865-1630141200-1630148400@sacheenlake.com
SUMMARY:Sacheen Lake Association Annual Board Meeting
DESCRIPTION:The Board of the Sacheen Lake Association has scheduled the 2021 annual meeting for August 28\, 9 AM to 11 AM at the Sacheen Lake Fire Station on Highway 211.  Please mark your calendars.
URL:https://sacheenlake.com/event/board-of-the-sacheen-lake-association-annual-meeting/
END:VEVENT
BEGIN:VEVENT
DTSTART;TZID=UTC:20160107T130000
DTEND;TZID=UTC:20160107T150000
DTSTAMP:20260420T004327
CREATED:20160105T212731Z
LAST-MODIFIED:20160105T212731Z
UID:123-1452171600-1452178800@sacheenlake.com
SUMMARY:Water & Sewer Meeting
DESCRIPTION:
URL:https://sacheenlake.com/event/water-sewer-meeting/
LOCATION:Fire Station\, Hwy 211\, Newport\, WA\, 99156\, United States
END:VEVENT
BEGIN:VEVENT
DTSTART;TZID=UTC:20151202T140000
DTEND;TZID=UTC:20151202T170000
DTSTAMP:20260420T004327
CREATED:20151217T174615Z
LAST-MODIFIED:20151217T174615Z
UID:23-1449064800-1449075600@sacheenlake.com
SUMMARY:Water & Sewer Monthly Meeting
DESCRIPTION:
URL:https://sacheenlake.com/event/water-sewer-monthly-meeting/
CATEGORIES:Meetings
END:VEVENT
END:VCALENDAR