BEGIN:VCALENDAR
VERSION:2.0
PRODID:-//Sacheen Lake Association - ECPv6.15.20//NONSGML v1.0//EN
CALSCALE:GREGORIAN
METHOD:PUBLISH
X-ORIGINAL-URL:https://sacheenlake.com
X-WR-CALDESC:Events for Sacheen Lake Association
REFRESH-INTERVAL;VALUE=DURATION:PT1H
X-Robots-Tag:noindex
X-PUBLISHED-TTL:PT1H
BEGIN:VTIMEZONE
TZID:UTC
BEGIN:STANDARD
TZOFFSETFROM:+0000
TZOFFSETTO:+0000
TZNAME:UTC
DTSTART:20250101T000000
END:STANDARD
END:VTIMEZONE
BEGIN:VEVENT
DTSTART;TZID=UTC:20260725T080000
DTEND;TZID=UTC:20260725T110000
DTSTAMP:20260420T004439
CREATED:20251017T133325Z
LAST-MODIFIED:20251017T134753Z
UID:2298-1784966400-1784977200@sacheenlake.com
SUMMARY:Fertile Valley Rd Cleanup
DESCRIPTION:Attendance at SLA Events requires signup and release of liability of the SLA (at time of\nevent)
URL:https://sacheenlake.com/event/fertile-valley-rd-cleanup-6/
LOCATION:Meet at Myers – Harter Park
END:VEVENT
BEGIN:VEVENT
DTSTART;TZID=UTC:20260808T090000
DTEND;TZID=UTC:20260808T120000
DTSTAMP:20260420T004439
CREATED:20251017T134010Z
LAST-MODIFIED:20251017T134010Z
UID:2304-1786179600-1786190400@sacheenlake.com
SUMMARY:Community Yard Sale
DESCRIPTION:This event is not an SLA sponsored / hosted event. However\, the SLA uses our\nemail system to help the community coordinate this event. The SLA is not liable\nfor any injury or damage to any person or object during these events. \nYard sale will occur with a commitment of at least five sellers.
URL:https://sacheenlake.com/event/community-yard-sale-3/
LOCATION:Fire station on Hwy 211
END:VEVENT
BEGIN:VEVENT
DTSTART;TZID=UTC:20260912T090000
DTEND;TZID=UTC:20260912T120000
DTSTAMP:20260420T004439
CREATED:20251017T133502Z
LAST-MODIFIED:20251017T133502Z
UID:2300-1789203600-1789214400@sacheenlake.com
SUMMARY:Hwy 211 Cleanup
DESCRIPTION:Attendance at SLA Events requires signup and release of liability of the SLA (at time of\nevent)
URL:https://sacheenlake.com/event/hwy-211-cleanup-10/
LOCATION:Meet at Myers – Harter Park
END:VEVENT
BEGIN:VEVENT
DTSTART;TZID=UTC:20261107T100000
DTEND;TZID=UTC:20261107T120000
DTSTAMP:20260420T004439
CREATED:20251017T134220Z
LAST-MODIFIED:20260102T224911Z
UID:2306-1794045600-1794052800@sacheenlake.com
SUMMARY:Photo Calendar Pickup
DESCRIPTION:Photo calendar contest (an SLA fundraising event) will occur with a commitment to purchase at least 50 calendars.
URL:https://sacheenlake.com/event/photo-calendar-pickup-3/
LOCATION:Fire station on Hwy 211
END:VEVENT
END:VCALENDAR